BEGIN:VCALENDAR
VERSION:2.0
PRODID:-//Seattle REconomy - ECPv6.15.20//NONSGML v1.0//EN
CALSCALE:GREGORIAN
METHOD:PUBLISH
X-ORIGINAL-URL:https://seattlereconomy.org
X-WR-CALDESC:Events for Seattle REconomy
REFRESH-INTERVAL;VALUE=DURATION:PT1H
X-Robots-Tag:noindex
X-PUBLISHED-TTL:PT1H
BEGIN:VTIMEZONE
TZID:America/Los_Angeles
BEGIN:DAYLIGHT
TZOFFSETFROM:-0800
TZOFFSETTO:-0700
TZNAME:PDT
DTSTART:20250309T100000
END:DAYLIGHT
BEGIN:STANDARD
TZOFFSETFROM:-0700
TZOFFSETTO:-0800
TZNAME:PST
DTSTART:20251102T090000
END:STANDARD
BEGIN:DAYLIGHT
TZOFFSETFROM:-0800
TZOFFSETTO:-0700
TZNAME:PDT
DTSTART:20260308T100000
END:DAYLIGHT
BEGIN:STANDARD
TZOFFSETFROM:-0700
TZOFFSETTO:-0800
TZNAME:PST
DTSTART:20261101T090000
END:STANDARD
BEGIN:DAYLIGHT
TZOFFSETFROM:-0800
TZOFFSETTO:-0700
TZNAME:PDT
DTSTART:20270314T100000
END:DAYLIGHT
BEGIN:STANDARD
TZOFFSETFROM:-0700
TZOFFSETTO:-0800
TZNAME:PST
DTSTART:20271107T090000
END:STANDARD
END:VTIMEZONE
BEGIN:VEVENT
DTSTART;TZID=America/Los_Angeles:20260103T153000
DTEND;TZID=America/Los_Angeles:20260103T173000
DTSTAMP:20260425T050712
CREATED:20251108T062408Z
LAST-MODIFIED:20251113T235637Z
UID:10000643-1767454200-1767461400@seattlereconomy.org
SUMMARY:CAD for 3D Printing @ STL
DESCRIPTION:Learn how to use Onshape\, a CAD software\, to model basic parts. This is not a 3D Printer Orientation.\n\n\nLearn how to create basic parts in the CAD software Onshape! No previous knowledge is required. This class will cover the basic aspects of parametric modeling\, including creating fully constrained sketches and turning sketches into bodies. Although this class is geared toward learning CAD specifically for 3D Printing\, this is NOT a 3D Printing Orientation class and will NOT cover how to use our in-house printers. \nYou are encouraged to bring your own laptop and mouse to the class and download Prusa Slicer and create an onshape account\, but it is not required. \nAlthough this class is geared toward learning CAD specifically for 3D Printing\, this is NOT a 3D Printing Orientation class and will NOT cover how to use our in-house printers. If you would like to use the tool library 3D printers\, you must take 3D Printer Orientation: The Basics\, which will teach you how to find\, prepare\, and print 3D models on our Prusa MK3S+ 3D printers. Taking the 3D Printer Orientation is required to use our in-house printers. You may view our full list of upcoming 3D Printer Orientations here. \nThese classes have no overlap\, so you can take them in conjunction with one another. You can take CAD for 3D Printing before or after the 3D Printer Orientation. \nYou must also be a member of NE Seattle Tool Library or Shoreline Tool Library to take this class. Become a member here! \nOur sliding scale for classes helps to reduce barriers for participation while retaining sufficient income for Seattle REconomy\, which owns and operates the NE Seattle and Shoreline tool libraries. Please choose the level that best fits your family’s income. \nChildren are welcome at some classes with their parent or guardian on a case-by-case basis\, either as a student or as an observer. If you would like your child to attend a class with you\, please email info@seattlereconomy.org with their age and experience. Let us know if they will be a student or an observer\, the name and date of the class\, and we will determine if it is appropriate. \nACCESSIBILITY: \n\nThe venue is wheelchair accessible and has an all-gender restroom. The restroom is ADA compliant.\nNon-English and ASL interpreters are not provided at our classes and events\, however attendees are welcome to bring their own interpreters.\nPlease contact us with any accessibility notes or requests.\n\nGETTING THERE: \n\nBy transit: Served by King County Metro bus Rapid Ride E Line on Aurora Ave N and N 165th.\nBy bike: The venue is located one block west of the Interurban Trail. Shoreline Light Rail stations are each about 2 miles away. A bicycle rack is available outside the building.\nCar parking: There is an asphalt parking lot that fits up to 20 cars. There is one ADA van accessible parking space with an access aisle.
URL:https://seattlereconomy.org/event/cad-for-3d-printing-stl-2/
LOCATION:Shoreline Tool Library\, 16610 Aurora Avenue North\, Shoreline\, WA\, 98133\, United States
ATTACH;FMTTYPE=image/jpeg:https://seattlereconomy.org/wp-content/uploads/2025/11/bb890894060982d2c5d3c495a1c4d5ee-8gfJlj.tmp_.jpg
END:VEVENT
BEGIN:VEVENT
DTSTART;TZID=America/Los_Angeles:20260113T170000
DTEND;TZID=America/Los_Angeles:20260113T183000
DTSTAMP:20260425T050712
CREATED:20251130T010848Z
LAST-MODIFIED:20251130T032234Z
UID:10000676-1768323600-1768329000@seattlereconomy.org
SUMMARY:3D Printer Orientation: The Basics @ STL
DESCRIPTION:Learn how to use our 3D printers. 3D Printer Orientation is necessary to use our in-house Prusa MK3S+ 3D printers.\n\n\nLearn how to find\, prepare\, and print 3D models on our Prusa MK3S+ 3D printers! No previous knowledge is required. This class will cover where to source 3D models online\, how to slice files using Prusa Slicer\, and how to operate the machine. You are encouraged to bring your own laptop to the class and download Prusa Slicer by clicking here\, but it is not required. \nThis class will not include a 3D modeling aspect. If you are interested in learning 3D modeling\, check out our other class—CAD for 3D Printing. Please note that CAD for 3D Printing class is NOT a 3D printer orientation class and will not cover how to use our in-house 3D printers. These classes will not have any content overlap. If you are interested in taking both\, you can take them in either order. \nTaking the 3D Printer Orientation is required to use our in-house printers. You must also be a member of NE Seattle Tool Library or Shoreline Tool Library to take this class. Become a member here! \nWhile this instance is at the Shoreline Tool Library\, we also have 3D Printer Orientations at the NE Seattle Tool Library\, and completing one at either location gives members access to all of our tool library 3D printers. You may view our full list of upcoming 3D Printer Orientations here. \nOur sliding scale for classes helps to reduce barriers for participation while retaining sufficient income for Seattle REconomy\, which owns and operates the NE Seattle and Shoreline tool libraries. Please choose the level that best fits your family’s income. \nChildren are welcome at some classes with their parent or guardian on a case-by-case basis\, either as a student or as an observer. If you would like your child to attend a class with you\, please email info@seattlereconomy.orgwith their age and experience. Let us know if they will be a student or an observer\, the name and date of the class\, and we will determine if it is appropriate. \nACCESSIBILITY: \n\nThe venue is wheelchair accessible and has an all-gender restroom. The restroom is ADA compliant.\nNon-English and ASL interpreters are not provided at our classes and events\, however attendees are welcome to bring their own interpreters.\nPlease contact us with any accessibility notes or requests.\n\nGETTING THERE: \n\nBy transit: Served by King County Metro bus Rapid Ride E Line on Aurora Ave N and N 165th.\nBy bike: The venue is located one block west of the Interurban Trail. Shoreline Light Rail stations are each about 2 miles away. A bicycle rack is available outside the building.\nCar parking: There is an asphalt parking lot that fits up to 20 cars. There is one ADA van accessible parking space with an access aisle.
URL:https://seattlereconomy.org/event/3d-printer-orientation-the-basics-stl-7/
LOCATION:Shoreline Tool Library\, 16610 Aurora Avenue North\, Shoreline\, WA\, 98133\, United States
ATTACH;FMTTYPE=image/jpeg:https://seattlereconomy.org/wp-content/uploads/2025/05/e06ddbd37aa4aed8e9115895b6c4b37c-4A0sK8.tmp_.jpg
END:VEVENT
BEGIN:VEVENT
DTSTART;TZID=America/Los_Angeles:20260115T170000
DTEND;TZID=America/Los_Angeles:20260115T183000
DTSTAMP:20260425T050712
CREATED:20251130T010854Z
LAST-MODIFIED:20251130T032247Z
UID:10000677-1768496400-1768501800@seattlereconomy.org
SUMMARY:3D Printer Orientation: The Basics @ NESTL
DESCRIPTION:Learn how to use our 3D printers. 3D Printer Orientation is necessary to use our in-house Prusa MK3S+ 3D printers.\n\n\nLearn how to find\, prepare\, and print 3D models on our Prusa MK3S+ 3D printers! No previous knowledge is required. This class will cover where to source 3D models online\, how to slice files using Prusa Slicer\, and how to operate the machine. You are encouraged to bring your own laptop to the class and download Prusa Slicer by clicking here\, but it is not required. \nThis class will not include a 3D modeling aspect. If you are interested in learning 3D modeling\, check out our other class—CAD for 3D Printing. Please note that CAD for 3D Printing class is NOT a 3D printer orientation class and will not cover how to use our in-house 3D printers. These classes will not have any content overlap. If you are interested in taking both\, you can take them in either order. \nTaking the 3D Printer Orientation is required to use our in-house printers. You must also be a member of NE Seattle Tool Library or Shoreline Tool Library to take this class. Become a member here! \nWhile this instance is at the NE Seattle Tool Library\, we also have 3D Printer Orientations at the Shoreline Tool Library\, and completing one at either location gives members access to all of our tool library 3D printers. You may view our full list of upcoming 3D Printer Orientations here. \nOur sliding scale for classes helps to reduce barriers for participation while retaining sufficient income for Seattle REconomy\, which owns and operates the NE Seattle and Shoreline tool libraries. Please choose the level that best fits your family’s income. \nChildren are welcome at some classes with their parent or guardian on a case-by-case basis\, either as a student or as an observer. If you would like your child to attend a class with you\, please email info@seattlereconomy.orgwith their age and experience. Let us know if they will be a student or an observer\, the name and date of the class\, and we will determine if it is appropriate. \nACCESSIBILITY: \n\nMuch of the NE Seattle Tool Library interior is wheelchair accessible. All entrances have ramps that may exceed a 5 degree slope. The all-gender restroom is quite small and not ADA compliant.\nNon-English and ASL interpreters are not provided at our classes and events\, however attendees are welcome to bring their own interpreters.\nPlease contact us with any accessibility notes or requests.\n\nGETTING THERE: \n\nBy transit: Served by King County Metro bus route 372 stopping along Lake City Way NE at NE 98th St. Route 61 stops at NE Northgate Way & 23rd Ave NE and is a ½ mile walk from the tool library.\nBy bike: There are multiple bicycle route options available to the tool library\, and you are welcome to stow your bicycle inside the tool library during your visit.\nCar parking: There is a gravel parking lot that fits about 10 cars\, and an asphalt parking lot that fits 5 cars. There is no ADA accessible parking.
URL:https://seattlereconomy.org/event/3d-printer-orientation-the-basics-nestl-10/
LOCATION:NE Seattle Tool Library\, 10228 Fischer Place Northeast\, Seattle\, WA\, 98125\, United States
ATTACH;FMTTYPE=image/jpeg:https://seattlereconomy.org/wp-content/uploads/2025/05/48c824040f15767481ddc4adf073f468-nkY0DF.tmp_.jpg
END:VEVENT
BEGIN:VEVENT
DTSTART;TZID=America/Los_Angeles:20260124T153000
DTEND;TZID=America/Los_Angeles:20260124T170000
DTSTAMP:20260425T050712
CREATED:20251108T062414Z
LAST-MODIFIED:20251113T235710Z
UID:10000644-1769268600-1769274000@seattlereconomy.org
SUMMARY:3D Printer Orientation: The Basics @ NESTL
DESCRIPTION:Learn how to use our 3D printers. 3D Printer Orientation is necessary to use our in-house Prusa MK3S+ 3D printers.\n\n\nLearn how to find\, prepare\, and print 3D models on our Prusa MK3S+ 3D printers! No previous knowledge is required. This class will cover where to source 3D models online\, how to slice files using Prusa Slicer\, and how to operate the machine. You are encouraged to bring your own laptop to the class and download Prusa Slicer by clicking here\, but it is not required. \nThis class will not include a 3D modeling aspect. If you are interested in learning 3D modeling\, check out our other class—CAD for 3D Printing. Please note that CAD for 3D Printing class is NOT a 3D printer orientation class and will not cover how to use our in-house 3D printers. These classes will not have any content overlap. If you are interested in taking both\, you can take them in either order. \nTaking the 3D Printer Orientation is required to use our in-house printers. You must also be a member of NE Seattle Tool Library or Shoreline Tool Library to take this class. Become a member here! \nWhile this instance is at the NE Seattle Tool Library\, we also have 3D Printer Orientations at the Shoreline Tool Library\, and completing one at either location gives members access to all of our tool library 3D printers. You may view our full list of upcoming 3D Printer Orientations here. \nOur sliding scale for classes helps to reduce barriers for participation while retaining sufficient income for Seattle REconomy\, which owns and operates the NE Seattle and Shoreline tool libraries. Please choose the level that best fits your family’s income. \nChildren are welcome at some classes with their parent or guardian on a case-by-case basis\, either as a student or as an observer. If you would like your child to attend a class with you\, please email info@seattlereconomy.orgwith their age and experience. Let us know if they will be a student or an observer\, the name and date of the class\, and we will determine if it is appropriate. \nACCESSIBILITY: \n\nMuch of the NE Seattle Tool Library interior is wheelchair accessible. All entrances have ramps that may exceed a 5 degree slope. The all-gender restroom is quite small and not ADA compliant.\nNon-English and ASL interpreters are not provided at our classes and events\, however attendees are welcome to bring their own interpreters.\nPlease contact us with any accessibility notes or requests.\n\nGETTING THERE: \n\nBy transit: Served by King County Metro bus route 372 stopping along Lake City Way NE at NE 98th St. Route 61 stops at NE Northgate Way & 23rd Ave NE and is a ½ mile walk from the tool library.\nBy bike: There are multiple bicycle route options available to the tool library\, and you are welcome to stow your bicycle inside the tool library during your visit.\nCar parking: There is a gravel parking lot that fits about 10 cars\, and an asphalt parking lot that fits 5 cars. There is no ADA accessible parking.
URL:https://seattlereconomy.org/event/3d-printer-orientation-the-basics-nestl-9/
LOCATION:NE Seattle Tool Library\, 10228 Fischer Place Northeast\, Seattle\, WA\, 98125\, United States
ATTACH;FMTTYPE=image/jpeg:https://seattlereconomy.org/wp-content/uploads/2025/05/48c824040f15767481ddc4adf073f468-nkY0DF.tmp_.jpg
END:VEVENT
END:VCALENDAR