BEGIN:VCALENDAR
VERSION:2.0
PRODID:-//Seattle REconomy - ECPv6.15.20//NONSGML v1.0//EN
CALSCALE:GREGORIAN
METHOD:PUBLISH
X-WR-CALNAME:Seattle REconomy
X-ORIGINAL-URL:https://seattlereconomy.org
X-WR-CALDESC:Events for Seattle REconomy
REFRESH-INTERVAL;VALUE=DURATION:PT1H
X-Robots-Tag:noindex
X-PUBLISHED-TTL:PT1H
BEGIN:VTIMEZONE
TZID:America/Los_Angeles
BEGIN:DAYLIGHT
TZOFFSETFROM:-0800
TZOFFSETTO:-0700
TZNAME:PDT
DTSTART:20240310T100000
END:DAYLIGHT
BEGIN:STANDARD
TZOFFSETFROM:-0700
TZOFFSETTO:-0800
TZNAME:PST
DTSTART:20241103T090000
END:STANDARD
BEGIN:DAYLIGHT
TZOFFSETFROM:-0800
TZOFFSETTO:-0700
TZNAME:PDT
DTSTART:20250309T100000
END:DAYLIGHT
BEGIN:STANDARD
TZOFFSETFROM:-0700
TZOFFSETTO:-0800
TZNAME:PST
DTSTART:20251102T090000
END:STANDARD
BEGIN:DAYLIGHT
TZOFFSETFROM:-0800
TZOFFSETTO:-0700
TZNAME:PDT
DTSTART:20260308T100000
END:DAYLIGHT
BEGIN:STANDARD
TZOFFSETFROM:-0700
TZOFFSETTO:-0800
TZNAME:PST
DTSTART:20261101T090000
END:STANDARD
END:VTIMEZONE
BEGIN:VEVENT
DTSTART;TZID=America/Los_Angeles:20250919T170000
DTEND;TZID=America/Los_Angeles:20250919T193000
DTSTAMP:20260425T051727
CREATED:20250807T185020Z
LAST-MODIFIED:20250829T010426Z
UID:10000535-1758301200-1758310200@seattlereconomy.org
SUMMARY:3D Printer Orientation: Foundations of CAD @ NESTL
DESCRIPTION:Learn how to use our 3D printers and about 3D modeling. 3D Printer Orientation is necessary to use our in-house Prusa MK3S+ 3D printers.\n\n\nLearn how to find\, prepare\, and print 3D models on our Prusa MK3S+ 3D printers! No previous knowledge is required. This class will cover where to source 3D models online\, how to slice files using Prusa Slicer\, and how to operate the machine. In addition\, this class will include an introduction to CAD with onshape. You are encouraged to bring your own laptop to the class and download Prusa Slicer and create an onshape account\, but it is not required. \nIf you are not interested in learning 3D modeling\, check out our other class—3D Printer Orientation: The Basics. \nTaking the 3D Printer Orientation is required to use our in-house printers. You must also be a member of NE Seattle Tool Library or Shoreline Tool Library to take this class. Become a member here! \nWe also have 3D Printer Orientations at the Shoreline Tool Library\, and completing one there gives members access to all of our tool library 3D printers. You may view our full list of upcoming 3D Printer Orientations (both The Basics and Foundations of CAD) here. \nOur sliding scale for classes helps to reduce barriers for participation while retaining sufficient income for Seattle REconomy\, which owns and operates the NE Seattle and Shoreline tool libraries. Please choose the level that best fits your family’s income.
URL:https://seattlereconomy.org/event/3d-printer-orientation-foundations-of-cad-nestl-3/
LOCATION:NE Seattle Tool Library\, 10228 Fischer Place Northeast\, Seattle\, WA\, 98125\, United States
ATTACH;FMTTYPE=image/png:https://seattlereconomy.org/wp-content/uploads/2025/05/e67ae9f8ca0a8eff42f251ea3e6eda41-3gxUYy.tmp_.png
END:VEVENT
BEGIN:VEVENT
DTSTART;TZID=America/Los_Angeles:20250909T170000
DTEND;TZID=America/Los_Angeles:20250909T183000
DTSTAMP:20260425T051728
CREATED:20250824T181155Z
LAST-MODIFIED:20250829T010421Z
UID:10000569-1757437200-1757442600@seattlereconomy.org
SUMMARY:3D Printer Orientation: The Basics @ STL
DESCRIPTION:Learn how to use our 3D printers. 3D Printer Orientation is necessary to use our in-house Prusa MK3S+ 3D printers.\n\n\nLearn how to find\, prepare\, and print 3D models on our Prusa MK3S+ 3D printers! No previous knowledge is required. This class will cover where to source 3D models online\, how to slice files using Prusa Slicer\, and how to operate the machine. You are encouraged to bring your own laptop to the class and download Prusa Slicer by clicking here\, but it is not required. \nThis class will not include a 3D modeling aspect. If you are interested in learning 3D modeling\, check out our other class—3D Printer Orientation: Foundations of CAD \nTaking the 3D Printer Orientation is required to use our in-house printers. You must also be a member of NE Seattle Tool Library or Shoreline Tool Library to take this class. Become a member here! \nWe also have 3D Printer Orientations at the NE Seattle Tool Library\, and completing one there gives members access to all of our tool library 3D printers. You may view our full list of upcoming 3D Printer Orientations (both The Basics and Foundations of CAD) here. \nOur sliding scale for classes helps to reduce barriers for participation while retaining sufficient income for Seattle REconomy\, which owns and operates the NE Seattle and Shoreline tool libraries. Please choose the level that best fits your family’s income. \nChildren are welcome at some classes with their parent or guardian on a case-by-case basis\, either as a student or as an observer. If you would like your child to attend a class with you\, please email info@seattlereconomy.orgwith their age and experience. Let us know if they will be a student or an observer\, the name and date of the class\, and we will determine if it is appropriate. \nACCESSIBILITY:  \n\nThe venue is wheelchair accessible and has an all-gender restroom. The restroom is ADA compliant.\nNon-English and ASL interpreters are not provided at our classes and events\, however attendees are welcome to bring their own interpreters.\nPlease contact us with any accessibility notes or requests. \n\nGETTING THERE: \n\nBy transit: Served by King County Metro bus Rapid Ride E Line on Aurora Ave N and N 165th.\nBy bike: The venue is located one block west of the Interurban Trail. Shoreline Light Rail stations are each about 2 miles away. A bicycle rack is available outside the building. \nCar parking: There is an asphalt parking lot that fits up to 20 cars. There is one ADA van accessible parking space with an access aisle. 
URL:https://seattlereconomy.org/event/3d-printer-orientation-the-basics-stl-4/
LOCATION:Shoreline Tool Library\, 16610 Aurora Avenue North\, Shoreline\, WA\, 98133\, United States
ATTACH;FMTTYPE=image/jpeg:https://seattlereconomy.org/wp-content/uploads/2025/05/e06ddbd37aa4aed8e9115895b6c4b37c-4A0sK8.tmp_.jpg
END:VEVENT
BEGIN:VEVENT
DTSTART;TZID=America/Los_Angeles:20250906T153000
DTEND;TZID=America/Los_Angeles:20250906T180000
DTSTAMP:20260425T051728
CREATED:20250824T181149Z
LAST-MODIFIED:20250829T010415Z
UID:10000568-1757172600-1757181600@seattlereconomy.org
SUMMARY:3D Printer Orientation: Foundations of CAD @ STL
DESCRIPTION:Learn how to use our 3D printers and about 3D modeling. 3D Printer Orientation is necessary to use our in-house Prusa MK3S+ 3D printers.\n\n\nLearn how to find\, prepare\, and print 3D models on our Prusa MK3S+ 3D printers! No previous knowledge is required. This class will cover where to source 3D models online\, how to slice files using Prusa Slicer\, and how to operate the machine. In addition\, this class will include an introduction to CAD with onshape. You are encouraged to bring your own laptop to the class and download Prusa Slicer and create an onshape account\, but it is not required. \nIf you are not interested in learning 3D modeling\, check out our other class—3D Printer Orientation: The Basics. \nTaking the 3D Printer Orientation is required to use our in-house printers. You must also be a member of NE Seattle Tool Library or Shoreline Tool Library to take this class. Become a member here! \nWe also have 3D Printer Orientations at the NE Seattle Tool Library\, and completing one there gives members access to all of our tool library 3D printers. You may view our full list of upcoming 3D Printer Orientations (both The Basics and Foundations of CAD) here. \nOur sliding scale for classes helps to reduce barriers for participation while retaining sufficient income for Seattle REconomy\, which owns and operates the NE Seattle and Shoreline tool libraries. Please choose the level that best fits your family’s income. \nChildren are welcome at some classes with their parent or guardian on a case-by-case basis\, either as a student or as an observer. If you would like your child to attend a class with you\, please email info@seattlereconomy.orgwith their age and experience. Let us know if they will be a student or an observer\, the name and date of the class\, and we will determine if it is appropriate. \nACCESSIBILITY:  \n\nThe venue is wheelchair accessible and has an all-gender restroom. The restroom is ADA compliant.\nNon-English and ASL interpreters are not provided at our classes and events\, however attendees are welcome to bring their own interpreters.\nPlease contact us with any accessibility notes or requests. \n\nGETTING THERE: \n\nBy transit: Served by King County Metro bus Rapid Ride E Line on Aurora Ave N and N 165th.\nBy bike: The venue is located one block west of the Interurban Trail. Shoreline Light Rail stations are each about 2 miles away. A bicycle rack is available outside the building. \nCar parking: There is an asphalt parking lot that fits up to 20 cars. There is one ADA van accessible parking space with an access aisle. 
URL:https://seattlereconomy.org/event/3d-printer-orientation-foundations-of-cad-stl-3/
LOCATION:Shoreline Tool Library\, 16610 Aurora Avenue North\, Shoreline\, WA\, 98133\, United States
ATTACH;FMTTYPE=image/png:https://seattlereconomy.org/wp-content/uploads/2025/05/2e58e45ad65461bb1c35badcdc41facc-A5100W.tmp_.png
END:VEVENT
BEGIN:VEVENT
DTSTART;TZID=America/Los_Angeles:20250815T170000
DTEND;TZID=America/Los_Angeles:20250815T193000
DTSTAMP:20260425T051728
CREATED:20250630T201718Z
LAST-MODIFIED:20250710T222811Z
UID:10000514-1755277200-1755286200@seattlereconomy.org
SUMMARY:3D Printer Orientation: Foundations of CAD @ NESTL
DESCRIPTION:Learn how to use our 3D printers and about 3D modeling. 3D Printer Orientation is necessary to use our in-house Prusa MK3S+ 3D printers.\n\n\nLearn how to find\, prepare\, and print 3D models on our Prusa MK3S+ 3D printers! No previous knowledge is required. This class will cover where to source 3D models online\, how to slice files using Prusa Slicer\, and how to operate the machine. In addition\, this class will include an introduction to CAD with onshape. You are encouraged to bring your own laptop to the class and download Prusa Slicer and create an onshape account\, but it is not required. \nIf you are not interested in learning 3D modeling\, check out our other class—3D Printer Orientation: The Basics. \nTaking the 3D Printer Orientation is required to use our in-house printers. You must also be a member of NE Seattle Tool Library or Shoreline Tool Library to take this class. Become a member here! \nWe also have 3D Printer Orientations at the Shoreline Tool Library\, and completing one there gives members access to all of our tool library 3D printers. You may view our full list of upcoming 3D Printer Orientations (both The Basics and Foundations of CAD) here. \nOur sliding scale for classes helps to reduce barriers for participation while retaining sufficient income for Seattle REconomy\, which owns and operates the NE Seattle and Shoreline tool libraries. Please choose the level that best fits your family’s income.
URL:https://seattlereconomy.org/event/3d-printer-orientation-foundations-of-cad-nestl-2/
LOCATION:NE Seattle Tool Library\, 10228 Fischer Place Northeast\, Seattle\, WA\, 98125\, United States
ATTACH;FMTTYPE=image/png:https://seattlereconomy.org/wp-content/uploads/2025/05/e67ae9f8ca0a8eff42f251ea3e6eda41-3gxUYy.tmp_.png
END:VEVENT
BEGIN:VEVENT
DTSTART;TZID=America/Los_Angeles:20250812T170000
DTEND;TZID=America/Los_Angeles:20250812T183000
DTSTAMP:20260425T051728
CREATED:20250629T014103Z
LAST-MODIFIED:20250629T014103Z
UID:10000511-1755018000-1755023400@seattlereconomy.org
SUMMARY:3D Printer Orientation: The Basics @ STL
DESCRIPTION:Learn how to use our 3D printers. 3D Printer Orientation is necessary to use our in-house Prusa MK3S+ 3D printers.\n\n\nLearn how to find\, prepare\, and print 3D models on our Prusa MK3S+ 3D printers! No previous knowledge is required. This class will cover where to source 3D models online\, how to slice files using Prusa Slicer\, and how to operate the machine. You are encouraged to bring your own laptop to the class and download Prusa Slicer by clicking here\, but it is not required. \nThis class will not include a 3D modeling aspect. If you are interested in learning 3D modeling\, check out our other class—3D Printer Orientation: Foundations of CAD \nTaking the 3D Printer Orientation is required to use our in-house printers. You must also be a member of NE Seattle Tool Library or Shoreline Tool Library to take this class. Become a member here! \nWe also have 3D Printer Orientations at the NE Seattle Tool Library\, and completing one there gives members access to all of our tool library 3D printers. You may view our full list of upcoming 3D Printer Orientations (both The Basics and Foundations of CAD) here. \nOur sliding scale for classes helps to reduce barriers for participation while retaining sufficient income for Seattle REconomy\, which owns and operates the NE Seattle and Shoreline tool libraries. Please choose the level that best fits your family’s income. \nChildren are welcome at some classes with their parent or guardian on a case-by-case basis\, either as a student or as an observer. If you would like your child to attend a class with you\, please email info@seattlereconomy.orgwith their age and experience. Let us know if they will be a student or an observer\, the name and date of the class\, and we will determine if it is appropriate.
URL:https://seattlereconomy.org/event/3d-printer-orientation-the-basics-stl-2/
LOCATION:Shoreline Tool Library\, 16610 Aurora Avenue North\, Shoreline\, WA\, 98133\, United States
ATTACH;FMTTYPE=image/jpeg:https://seattlereconomy.org/wp-content/uploads/2025/05/e06ddbd37aa4aed8e9115895b6c4b37c-4A0sK8.tmp_.jpg
END:VEVENT
BEGIN:VEVENT
DTSTART;TZID=America/Los_Angeles:20250802T153000
DTEND;TZID=America/Los_Angeles:20250802T180000
DTSTAMP:20260425T051728
CREATED:20250629T014057Z
LAST-MODIFIED:20250629T014057Z
UID:10000510-1754148600-1754157600@seattlereconomy.org
SUMMARY:3D Printer Orientation: Foundations of CAD @ STL
DESCRIPTION:Learn how to use our 3D printers and about 3D modeling. 3D Printer Orientation is necessary to use our in-house Prusa MK3S+ 3D printers.\n\n\nLearn how to find\, prepare\, and print 3D models on our Prusa MK3S+ 3D printers! No previous knowledge is required. This class will cover where to source 3D models online\, how to slice files using Prusa Slicer\, and how to operate the machine. In addition\, this class will include an introduction to CAD with onshape. You are encouraged to bring your own laptop to the class and download Prusa Slicer and create an onshape account\, but it is not required. \nIf you are not interested in learning 3D modeling\, check out our other class—3D Printer Orientation: The Basics. \nTaking the 3D Printer Orientation is required to use our in-house printers. You must also be a member of NE Seattle Tool Library or Shoreline Tool Library to take this class. Become a member here! \nWe also have 3D Printer Orientations at the NE Seattle Tool Library\, and completing one there gives members access to all of our tool library 3D printers. You may view our full list of upcoming 3D Printer Orientations (both The Basics and Foundations of CAD) here. \nOur sliding scale for classes helps to reduce barriers for participation while retaining sufficient income for Seattle REconomy\, which owns and operates the NE Seattle and Shoreline tool libraries. Please choose the level that best fits your family’s income. \nChildren are welcome at some classes with their parent or guardian on a case-by-case basis\, either as a student or as an observer. If you would like your child to attend a class with you\, please email info@seattlereconomy.orgwith their age and experience. Let us know if they will be a student or an observer\, the name and date of the class\, and we will determine if it is appropriate.
URL:https://seattlereconomy.org/event/3d-printer-orientation-foundations-of-cad-stl-2/
LOCATION:Shoreline Tool Library\, 16610 Aurora Avenue North\, Shoreline\, WA\, 98133\, United States
ATTACH;FMTTYPE=image/png:https://seattlereconomy.org/wp-content/uploads/2025/05/2e58e45ad65461bb1c35badcdc41facc-A5100W.tmp_.png
END:VEVENT
BEGIN:VEVENT
DTSTART;TZID=America/Los_Angeles:20250726T153000
DTEND;TZID=America/Los_Angeles:20250726T170000
DTSTAMP:20260425T051728
CREATED:20250520T051139Z
LAST-MODIFIED:20250627T205025Z
UID:10000460-1753543800-1753549200@seattlereconomy.org
SUMMARY:3D Printer Orientation: The Basics @ NESTL
DESCRIPTION:Learn how to use our 3D printers. 3D Printer Orientation is necessary to use our in-house Prusa MK3S+ 3D printers.\n\n\nLearn how to find\, prepare\, and print 3D models on our Prusa MK3S+ 3D printers! No previous knowledge is required. This class will cover where to source 3D models online\, how to slice files using Prusa Slicer\, and how to operate the machine. You are encouraged to bring your own laptop to the class and download Prusa Slicer by clicking here\, but it is not required. \nThis class will not include a 3D modeling aspect. If you are interested in learning 3D modeling\, check out our other class—3D Printer Orientation: Foundations of CAD \nTaking the 3D Printer Orientation is required to use our in-house printers. You must also be a member of NE Seattle Tool Library or Shoreline Tool Library to take this class. Become a member here! \nWe also have 3D Printer Orientations at the Shoreline Tool Library\, and completing one there gives members access to all of our tool library 3D printers. You may view our full list of upcoming 3D Printer Orientations (both The Basics and Foundations of CAD) here. \nOur sliding scale for classes helps to reduce barriers for participation while retaining sufficient income for Seattle REconomy\, which owns and operates the NE Seattle and Shoreline tool libraries. Please choose the level that best fits your family’s income. \nChildren are welcome at some classes with their parent or guardian on a case-by-case basis\, either as a student or as an observer. If you would like your child to attend a class with you\, please email info@seattlereconomy.orgwith their age and experience. Let us know if they will be a student or an observer\, the name and date of the class\, and we will determine if it is appropriate.
URL:https://seattlereconomy.org/event/3d-printer-orientation-the-basics-nestl-2/
LOCATION:NE Seattle Tool Library\, 10228 Fischer Place Northeast\, Seattle\, WA\, 98125\, United States
ATTACH;FMTTYPE=image/jpeg:https://seattlereconomy.org/wp-content/uploads/2025/05/48c824040f15767481ddc4adf073f468-nkY0DF.tmp_.jpg
END:VEVENT
END:VCALENDAR